Package: geomeTriD Version: 1.0.1 Command: /Library/Frameworks/R.framework/Resources/bin/R CMD INSTALL geomeTriD StartedAt: 2025-02-03 16:12:03 -0500 (Mon, 03 Feb 2025) EndedAt: 2025-02-03 16:13:58 -0500 (Mon, 03 Feb 2025) EllapsedTime: 114.3 seconds RetCode: 0 Status: OK