Package: geomeTriD Version: 1.0.1 Command: /home/biocbuild/bbs-3.20-bioc/R/bin/R CMD INSTALL geomeTriD StartedAt: 2025-02-03 15:46:16 -0500 (Mon, 03 Feb 2025) EndedAt: 2025-02-03 15:47:23 -0500 (Mon, 03 Feb 2025) EllapsedTime: 67.0 seconds RetCode: 0 Status: OK