Package: geomeTriD Version: 1.0.1 Command: chmod a+r geomeTriD -R && F:\biocbuild\bbs-3.20-bioc\R\bin\R.exe CMD build --keep-empty-dirs --no-resave-data geomeTriD StartedAt: 2025-02-03 19:26:41 -0500 (Mon, 03 Feb 2025) EndedAt: 2025-02-03 19:28:47 -0500 (Mon, 03 Feb 2025) EllapsedTime: 126.2 seconds RetCode: 0 Status: OK PackageFile: geomeTriD_1.0.1.tar.gz PackageFileSize: 1.2 MiB