Package: geomeTriD Version: 1.0.1 Command: F:\biocbuild\bbs-3.20-bioc\R\bin\R.exe CMD check --no-multiarch --install=check:geomeTriD.install-out.txt --library=F:\biocbuild\bbs-3.20-bioc\R\library --no-vignettes --timings geomeTriD_1.0.1.tar.gz StartedAt: 2025-02-04 02:16:16 -0500 (Tue, 04 Feb 2025) EndedAt: 2025-02-04 02:24:25 -0500 (Tue, 04 Feb 2025) EllapsedTime: 488.6 seconds RetCode: 0 Status: OK CheckDir: geomeTriD.Rcheck Warnings: 0