Package: geomeTriD Version: 1.0.1 Command: F:\biocbuild\bbs-3.20-bioc\R\bin\R.exe CMD INSTALL geomeTriD StartedAt: 2025-02-03 17:02:03 -0500 (Mon, 03 Feb 2025) EndedAt: 2025-02-03 17:03:28 -0500 (Mon, 03 Feb 2025) EllapsedTime: 85.5 seconds RetCode: 0 Status: OK