Package: geomeTriD Version: 1.0.1 Command: /home/biocbuild/R/R/bin/R CMD build --keep-empty-dirs --no-resave-data geomeTriD StartedAt: 2025-01-30 23:52:37 -0000 (Thu, 30 Jan 2025) EndedAt: 2025-01-30 23:54:27 -0000 (Thu, 30 Jan 2025) EllapsedTime: 110.0 seconds RetCode: 0 Status: OK PackageFile: geomeTriD_1.0.1.tar.gz PackageFileSize: 1.292 MiB