Package: geomeTriD Version: 1.0.1 Command: /home/biocbuild/R/R/bin/R CMD check --install=check:geomeTriD.install-out.txt --library=/home/biocbuild/R/R/site-library --no-vignettes --timings geomeTriD_1.0.1.tar.gz StartedAt: 2025-01-31 06:40:23 -0000 (Fri, 31 Jan 2025) EndedAt: 2025-01-31 06:48:02 -0000 (Fri, 31 Jan 2025) EllapsedTime: 458.3 seconds RetCode: 0 Status: WARNINGS CheckDir: geomeTriD.Rcheck Warnings: 1