Package: geomeTriD Version: 1.0.1 Command: /home/biocbuild/R/R/bin/R CMD INSTALL geomeTriD StartedAt: 2025-01-30 20:46:20 -0000 (Thu, 30 Jan 2025) EndedAt: 2025-01-30 20:47:27 -0000 (Thu, 30 Jan 2025) EllapsedTime: 66.8 seconds RetCode: 0 Status: OK