Package: gep2pep Version: 1.26.0 Command: rm -rf gep2pep.buildbin-libdir && mkdir gep2pep.buildbin-libdir && /Users/biocbuild/BBS/utils/build-universal.sh gep2pep_1.26.0.tar.gz /Library/Frameworks/R.framework/Resources/bin/R gep2pep.buildbin-libdir StartedAt: 2025-02-04 13:03:07 -0500 (Tue, 04 Feb 2025) EndedAt: 2025-02-04 13:04:00 -0500 (Tue, 04 Feb 2025) EllapsedTime: 53.3 seconds RetCode: 0 Status: OK PackageFile: gep2pep_1.26.0.tgz PackageFileSize: 461.4 KiB