Package: gep2pep Version: 1.26.0 Command: /Library/Frameworks/R.framework/Resources/bin/R CMD INSTALL gep2pep StartedAt: 2025-02-03 16:12:47 -0500 (Mon, 03 Feb 2025) EndedAt: 2025-02-03 16:13:24 -0500 (Mon, 03 Feb 2025) EllapsedTime: 36.7 seconds RetCode: 0 Status: OK