Package: gep2pep Version: 1.26.0 Command: F:\biocbuild\bbs-3.20-bioc\R\bin\R.exe CMD INSTALL gep2pep StartedAt: 2025-02-03 16:06:38 -0500 (Mon, 03 Feb 2025) EndedAt: 2025-02-03 16:07:11 -0500 (Mon, 03 Feb 2025) EllapsedTime: 32.6 seconds RetCode: 0 Status: OK