Package: gep2pep Version: 1.26.0 Command: /home/biocbuild/R/R/bin/R CMD INSTALL gep2pep StartedAt: 2025-02-10 20:48:35 -0000 (Mon, 10 Feb 2025) EndedAt: 2025-02-10 20:48:56 -0000 (Mon, 10 Feb 2025) EllapsedTime: 21.3 seconds RetCode: 0 Status: OK