Package: getDEE2 Version: 1.16.2 Command: /Library/Frameworks/R.framework/Resources/bin/R CMD build --keep-empty-dirs --no-resave-data getDEE2 StartedAt: 2025-02-11 00:28:39 -0500 (Tue, 11 Feb 2025) EndedAt: 2025-02-11 00:30:05 -0500 (Tue, 11 Feb 2025) EllapsedTime: 85.8 seconds RetCode: 0 Status: OK PackageFile: getDEE2_1.16.2.tar.gz PackageFileSize: 21.64 KiB