Package: getDEE2 Version: 1.16.2 Command: /home/biocbuild/bbs-3.20-bioc/R/bin/R CMD build --keep-empty-dirs --no-resave-data --md5 getDEE2 StartedAt: 2025-02-03 17:35:10 -0500 (Mon, 03 Feb 2025) EndedAt: 2025-02-03 17:37:14 -0500 (Mon, 03 Feb 2025) EllapsedTime: 124.2 seconds RetCode: 0 Status: OK PackageFile: getDEE2_1.16.2.tar.gz PackageFileSize: 22.65 KiB