Package: getDEE2 Version: 1.16.2 Command: /home/biocbuild/bbs-3.20-bioc/R/bin/R CMD INSTALL getDEE2 StartedAt: 2025-02-10 15:19:07 -0500 (Mon, 10 Feb 2025) EndedAt: 2025-02-10 15:19:26 -0500 (Mon, 10 Feb 2025) EllapsedTime: 18.8 seconds RetCode: 0 Status: OK