Package: getDEE2 Version: 1.16.2 Command: /home/biocbuild/R/R/bin/R CMD build --keep-empty-dirs --no-resave-data getDEE2 StartedAt: 2025-02-03 23:54:29 -0000 (Mon, 03 Feb 2025) EndedAt: 2025-02-03 23:55:52 -0000 (Mon, 03 Feb 2025) EllapsedTime: 82.0 seconds RetCode: 0 Status: OK PackageFile: getDEE2_1.16.2.tar.gz PackageFileSize: 22.44 KiB