Package: getDEE2 Version: 1.16.2 Command: /home/biocbuild/R/R/bin/R CMD check --install=check:getDEE2.install-out.txt --library=/home/biocbuild/R/R/site-library --no-vignettes --timings getDEE2_1.16.2.tar.gz StartedAt: 2025-02-04 07:25:32 -0000 (Tue, 04 Feb 2025) EndedAt: 2025-02-04 07:29:40 -0000 (Tue, 04 Feb 2025) EllapsedTime: 248.2 seconds RetCode: 0 Status: OK CheckDir: getDEE2.Rcheck Warnings: 0