Package: geva Version: 1.14.0 Command: /Library/Frameworks/R.framework/Resources/bin/R CMD check --install=check:geva.install-out.txt --library=/Library/Frameworks/R.framework/Resources/library --no-vignettes --timings geva_1.14.0.tar.gz StartedAt: 2025-01-31 20:46:07 -0500 (Fri, 31 Jan 2025) EndedAt: 2025-01-31 20:49:15 -0500 (Fri, 31 Jan 2025) EllapsedTime: 188.1 seconds RetCode: 0 Status: OK CheckDir: geva.Rcheck Warnings: 0