Package: geva Version: 1.14.0 Command: /home/biocbuild/R/R/bin/R CMD build --keep-empty-dirs --no-resave-data geva StartedAt: 2024-11-20 01:00:03 -0000 (Wed, 20 Nov 2024) EndedAt: 2024-11-20 01:02:33 -0000 (Wed, 20 Nov 2024) EllapsedTime: 150.2 seconds RetCode: 1 Status: ERROR PackageFile: None PackageFileSize: NA