Package: geva Version: 1.14.0 Command: /Library/Frameworks/R.framework/Resources/bin/R CMD build --keep-empty-dirs --no-resave-data geva StartedAt: 2025-02-03 19:14:08 -0500 (Mon, 03 Feb 2025) EndedAt: 2025-02-03 19:18:49 -0500 (Mon, 03 Feb 2025) EllapsedTime: 281.4 seconds RetCode: 0 Status: OK PackageFile: geva_1.14.0.tar.gz PackageFileSize: 2.216 MiB