Package: geva Version: 1.14.0 Command: /home/biocbuild/R/R/bin/R CMD build --keep-empty-dirs --no-resave-data geva StartedAt: 2025-02-03 23:54:32 -0000 (Mon, 03 Feb 2025) EndedAt: 2025-02-03 23:56:57 -0000 (Mon, 03 Feb 2025) EllapsedTime: 144.1 seconds RetCode: 1 Status: ERROR PackageFile: None PackageFileSize: NA