Package: ggkegg Version: 1.4.1 Command: rm -rf ggkegg.buildbin-libdir && mkdir ggkegg.buildbin-libdir && /Users/biocbuild/BBS/utils/build-universal.sh ggkegg_1.4.1.tar.gz /Library/Frameworks/R.framework/Resources/bin/R ggkegg.buildbin-libdir StartedAt: 2025-02-05 16:03:08 -0500 (Wed, 05 Feb 2025) EndedAt: 2025-02-05 16:03:22 -0500 (Wed, 05 Feb 2025) EllapsedTime: 14.8 seconds RetCode: 0 Status: OK PackageFile: ggkegg_1.4.1.tgz PackageFileSize: 3.787 MiB