Package: ggkegg Version: 1.4.1 Command: /Library/Frameworks/R.framework/Resources/bin/R CMD INSTALL ggkegg StartedAt: 2025-02-03 15:39:18 -0500 (Mon, 03 Feb 2025) EndedAt: 2025-02-03 15:39:24 -0500 (Mon, 03 Feb 2025) EllapsedTime: 6.0 seconds RetCode: 0 Status: OK