Package: ggkegg Version: 1.4.1 Command: rm -rf ggkegg.buildbin-libdir && mkdir ggkegg.buildbin-libdir && /Users/biocbuild/BBS/utils/build-universal.sh ggkegg_1.4.1.tar.gz /Library/Frameworks/R.framework/Resources/bin/R ggkegg.buildbin-libdir StartedAt: 2025-02-04 13:03:24 -0500 (Tue, 04 Feb 2025) EndedAt: 2025-02-04 13:04:01 -0500 (Tue, 04 Feb 2025) EllapsedTime: 37.3 seconds RetCode: 0 Status: OK PackageFile: ggkegg_1.4.1.tgz PackageFileSize: 3.783 MiB