Package: ggkegg Version: 1.4.1 Command: /Library/Frameworks/R.framework/Resources/bin/R CMD build --keep-empty-dirs --no-resave-data ggkegg StartedAt: 2025-02-03 19:14:27 -0500 (Mon, 03 Feb 2025) EndedAt: 2025-02-03 19:15:45 -0500 (Mon, 03 Feb 2025) EllapsedTime: 77.4 seconds RetCode: 0 Status: OK PackageFile: ggkegg_1.4.1.tar.gz PackageFileSize: 3.449 MiB