Package: ggkegg Version: 1.4.1 Command: /home/biocbuild/bbs-3.20-bioc/R/bin/R CMD build --keep-empty-dirs --no-resave-data --md5 ggkegg StartedAt: 2025-02-03 17:35:59 -0500 (Mon, 03 Feb 2025) EndedAt: 2025-02-03 17:36:43 -0500 (Mon, 03 Feb 2025) EllapsedTime: 44.0 seconds RetCode: 0 Status: OK PackageFile: ggkegg_1.4.1.tar.gz PackageFileSize: 3.493 MiB