Package: ggkegg Version: 1.4.1 Command: /home/biocbuild/bbs-3.20-bioc/R/bin/R CMD INSTALL ggkegg StartedAt: 2025-02-10 15:23:14 -0500 (Mon, 10 Feb 2025) EndedAt: 2025-02-10 15:23:23 -0500 (Mon, 10 Feb 2025) EllapsedTime: 9.3 seconds RetCode: 0 Status: OK