Package: ggkegg Version: 1.4.1 Command: rm -rf ggkegg.buildbin-libdir && mkdir ggkegg.buildbin-libdir && F:\biocbuild\bbs-3.20-bioc\R\bin\R.exe CMD INSTALL --build --library=ggkegg.buildbin-libdir ggkegg_1.4.1.tar.gz StartedAt: 2025-02-11 08:33:54 -0500 (Tue, 11 Feb 2025) EndedAt: 2025-02-11 08:34:42 -0500 (Tue, 11 Feb 2025) EllapsedTime: 47.4 seconds RetCode: 0 Status: OK PackageFile: ggkegg_1.4.1.zip PackageFileSize: 2.952 MiB