Package: ggkegg Version: 1.4.1 Command: chmod a+r ggkegg -R && F:\biocbuild\bbs-3.20-bioc\R\bin\R.exe CMD build --keep-empty-dirs --no-resave-data ggkegg StartedAt: 2025-02-03 19:28:06 -0500 (Mon, 03 Feb 2025) EndedAt: 2025-02-03 19:29:16 -0500 (Mon, 03 Feb 2025) EllapsedTime: 69.7 seconds RetCode: 0 Status: OK PackageFile: ggkegg_1.4.1.tar.gz PackageFileSize: 2.623 MiB