Package: ggkegg Version: 1.4.1 Command: F:\biocbuild\bbs-3.20-bioc\R\bin\R.exe CMD INSTALL ggkegg StartedAt: 2025-02-03 15:48:12 -0500 (Mon, 03 Feb 2025) EndedAt: 2025-02-03 15:48:51 -0500 (Mon, 03 Feb 2025) EllapsedTime: 39.1 seconds RetCode: 0 Status: OK