Package: ggkegg Version: 1.4.1 Command: /home/biocbuild/R/R/bin/R CMD build --keep-empty-dirs --no-resave-data ggkegg StartedAt: 2025-02-03 23:55:39 -0000 (Mon, 03 Feb 2025) EndedAt: 2025-02-03 23:56:38 -0000 (Mon, 03 Feb 2025) EllapsedTime: 59.0 seconds RetCode: 0 Status: OK PackageFile: ggkegg_1.4.1.tar.gz PackageFileSize: 2.657 MiB