Package: ggkegg Version: 1.4.1 Command: /home/biocbuild/R/R/bin/R CMD INSTALL ggkegg StartedAt: 2025-02-03 20:35:10 -0000 (Mon, 03 Feb 2025) EndedAt: 2025-02-03 20:35:24 -0000 (Mon, 03 Feb 2025) EllapsedTime: 13.8 seconds RetCode: 0 Status: OK