Package: ggkegg Version: 1.4.0 Command: /home/biocbuild/bbs-3.20-bioc/R/bin/R CMD check --install=check:ggkegg.install-out.txt --library=/home/biocbuild/bbs-3.20-bioc/R/site-library --timings ggkegg_1.4.0.tar.gz StartedAt: 2024-11-20 03:44:11 -0500 (Wed, 20 Nov 2024) EndedAt: 2024-11-20 03:46:23 -0500 (Wed, 20 Nov 2024) EllapsedTime: 131.6 seconds RetCode: 0 Status: OK CheckDir: ggkegg.Rcheck Warnings: 0