Package: ggmanh Version: 1.10.0 Command: chmod a+r ggmanh -R && F:\biocbuild\bbs-3.20-bioc\R\bin\R.exe CMD build --keep-empty-dirs --no-resave-data ggmanh StartedAt: 2025-02-10 19:21:53 -0500 (Mon, 10 Feb 2025) EndedAt: 2025-02-10 19:25:07 -0500 (Mon, 10 Feb 2025) EllapsedTime: 194.9 seconds RetCode: 0 Status: OK PackageFile: ggmanh_1.10.0.tar.gz PackageFileSize: 3.155 MiB