Package: ggmsa Version: 1.12.0 Command: /home/biocbuild/bbs-3.20-bioc/R/bin/R CMD INSTALL ggmsa StartedAt: 2025-02-10 15:40:44 -0500 (Mon, 10 Feb 2025) EndedAt: 2025-02-10 15:40:58 -0500 (Mon, 10 Feb 2025) EllapsedTime: 14.2 seconds RetCode: 0 Status: OK