Package: ggmsa Version: 1.12.0 Command: /home/biocbuild/R/R/bin/R CMD INSTALL ggmsa StartedAt: 2025-02-03 20:56:58 -0000 (Mon, 03 Feb 2025) EndedAt: 2025-02-03 20:57:18 -0000 (Mon, 03 Feb 2025) EllapsedTime: 20.0 seconds RetCode: 0 Status: OK