Package: ggsc Version: 1.4.0 Command: rm -rf ggsc.buildbin-libdir && mkdir ggsc.buildbin-libdir && /Users/biocbuild/BBS/utils/build-universal.sh ggsc_1.4.0.tar.gz /Library/Frameworks/R.framework/Resources/bin/R ggsc.buildbin-libdir StartedAt: 2025-02-01 15:07:44 -0500 (Sat, 01 Feb 2025) EndedAt: 2025-02-01 15:08:47 -0500 (Sat, 01 Feb 2025) EllapsedTime: 63.2 seconds RetCode: 0 Status: OK PackageFile: ggsc_1.4.0.tgz PackageFileSize: 344.1 KiB