Package: ggsc Version: 1.4.0 Command: /Library/Frameworks/R.framework/Resources/bin/R CMD build --keep-empty-dirs --no-resave-data ggsc StartedAt: 2025-01-31 00:27:09 -0500 (Fri, 31 Jan 2025) EndedAt: 2025-01-31 00:28:10 -0500 (Fri, 31 Jan 2025) EllapsedTime: 61.7 seconds RetCode: 0 Status: OK PackageFile: ggsc_1.4.0.tar.gz PackageFileSize: 81.19 KiB