Package: ggsc Version: 1.4.0 Command: /Library/Frameworks/R.framework/Resources/bin/R CMD check --install=check:ggsc.install-out.txt --library=/Library/Frameworks/R.framework/Resources/library --no-vignettes --timings ggsc_1.4.0.tar.gz StartedAt: 2025-01-31 20:51:08 -0500 (Fri, 31 Jan 2025) EndedAt: 2025-01-31 20:57:03 -0500 (Fri, 31 Jan 2025) EllapsedTime: 354.9 seconds RetCode: 0 Status: OK CheckDir: ggsc.Rcheck Warnings: 0