Package: ggsc Version: 1.4.0 Command: /Library/Frameworks/R.framework/Resources/bin/R CMD INSTALL ggsc StartedAt: 2025-01-30 17:25:34 -0500 (Thu, 30 Jan 2025) EndedAt: 2025-01-30 17:26:33 -0500 (Thu, 30 Jan 2025) EllapsedTime: 59.2 seconds RetCode: 0 Status: OK