Package: ggsc Version: 1.4.0 Command: /Library/Frameworks/R.framework/Resources/bin/R CMD check --install=check:ggsc.install-out.txt --library=/Library/Frameworks/R.framework/Resources/library --no-vignettes --timings ggsc_1.4.0.tar.gz StartedAt: 2024-11-09 03:34:26 -0500 (Sat, 09 Nov 2024) EndedAt: 2024-11-09 03:39:50 -0500 (Sat, 09 Nov 2024) EllapsedTime: 324.2 seconds RetCode: 0 Status: OK CheckDir: ggsc.Rcheck Warnings: 0