Package: ggsc Version: 1.4.0 Command: /Library/Frameworks/R.framework/Resources/bin/R CMD INSTALL ggsc StartedAt: 2025-01-30 16:19:48 -0500 (Thu, 30 Jan 2025) EndedAt: 2025-01-30 16:21:49 -0500 (Thu, 30 Jan 2025) EllapsedTime: 121.2 seconds RetCode: 0 Status: OK