Package: ggsc Version: 1.4.0 Command: /home/biocbuild/bbs-3.20-bioc/R/bin/R CMD INSTALL ggsc StartedAt: 2025-01-30 15:46:27 -0500 (Thu, 30 Jan 2025) EndedAt: 2025-01-30 15:47:25 -0500 (Thu, 30 Jan 2025) EllapsedTime: 57.9 seconds RetCode: 0 Status: OK