Package: ggsc Version: 1.4.0 Command: rm -rf ggsc.buildbin-libdir && mkdir ggsc.buildbin-libdir && F:\biocbuild\bbs-3.20-bioc\R\bin\R.exe CMD INSTALL --build --library=ggsc.buildbin-libdir ggsc_1.4.0.tar.gz StartedAt: 2025-01-31 08:45:25 -0500 (Fri, 31 Jan 2025) EndedAt: 2025-01-31 08:46:42 -0500 (Fri, 31 Jan 2025) EllapsedTime: 76.9 seconds RetCode: 0 Status: OK PackageFile: ggsc_1.4.0.zip PackageFileSize: 732.3 KiB