Package: ggsc Version: 1.4.0 Command: chmod a+r ggsc -R && F:\biocbuild\bbs-3.20-bioc\R\bin\R.exe CMD build --keep-empty-dirs --no-resave-data ggsc StartedAt: 2025-01-30 19:13:25 -0500 (Thu, 30 Jan 2025) EndedAt: 2025-01-30 19:14:45 -0500 (Thu, 30 Jan 2025) EllapsedTime: 80.6 seconds RetCode: 0 Status: OK PackageFile: ggsc_1.4.0.tar.gz PackageFileSize: 81.28 KiB