Package: ggsc Version: 1.4.0 Command: F:\biocbuild\bbs-3.20-bioc\R\bin\R.exe CMD INSTALL ggsc StartedAt: 2025-01-30 16:33:01 -0500 (Thu, 30 Jan 2025) EndedAt: 2025-01-30 16:36:10 -0500 (Thu, 30 Jan 2025) EllapsedTime: 189.3 seconds RetCode: 0 Status: OK