Package: ggsc Version: 1.4.0 Command: /home/biocbuild/R/R/bin/R CMD build --keep-empty-dirs --no-resave-data ggsc StartedAt: 2025-01-30 23:56:09 -0000 (Thu, 30 Jan 2025) EndedAt: 2025-01-30 23:57:24 -0000 (Thu, 30 Jan 2025) EllapsedTime: 75.1 seconds RetCode: 0 Status: OK PackageFile: ggsc_1.4.0.tar.gz PackageFileSize: 83 KiB