Package: ggseqalign Version: 1.0.0 Command: /Library/Frameworks/R.framework/Resources/bin/R CMD build --keep-empty-dirs --no-resave-data ggseqalign StartedAt: 2025-02-04 00:24:48 -0500 (Tue, 04 Feb 2025) EndedAt: 2025-02-04 00:25:23 -0500 (Tue, 04 Feb 2025) EllapsedTime: 35.3 seconds RetCode: 0 Status: OK PackageFile: ggseqalign_1.0.0.tar.gz PackageFileSize: 716.7 KiB