Package: ggseqalign Version: 1.0.0 Command: F:\biocbuild\bbs-3.20-bioc\R\bin\R.exe CMD INSTALL ggseqalign StartedAt: 2025-02-03 15:53:52 -0500 (Mon, 03 Feb 2025) EndedAt: 2025-02-03 15:54:07 -0500 (Mon, 03 Feb 2025) EllapsedTime: 15.7 seconds RetCode: 0 Status: OK