Package: ggseqalign Version: 1.0.0 Command: /home/biocbuild/R/R/bin/R CMD INSTALL ggseqalign StartedAt: 2025-02-03 20:30:31 -0000 (Mon, 03 Feb 2025) EndedAt: 2025-02-03 20:30:45 -0000 (Mon, 03 Feb 2025) EllapsedTime: 14.1 seconds RetCode: 0 Status: OK